BEGIN:VCALENDAR
VERSION:2.0
PRODID:-//www.nemasternaturalist.org//NONSGML kigkonsult.se iCalcreator 2.3
 0.10//
CALSCALE:GREGORIAN
METHOD:PUBLISH
UID:6cb4be96-00e8-4c5f-8adb-94bf25804b33
X-WR-CALDESC:Welcome spring and join How’s it Growin’ radio host Bob Henric
 kson and some wild friends on a guided nature hike in Wilderness Park. Com
 e and learn about the wild edible plants in your own neck of the woods! We
  will learn how to identify and harvest some wild weeds for healthy\, nutr
 itious spring greens. Come join us for a fun\, inspiring and deliciously n
 utritious foraging foray into the woods. Do it for the exercise and a chan
 ce to get away from the hustle and bustle of the city in this beautiful ar
 ea of Wilderness Park\nMeet at the Wilderness Park—Old Cheney Road parking
  lot. (Enter just west of the railroad tracks and Jamaica North Trail)
X-WR-RELCALID:7d41ed5016c5ca063eb51cadc0681a0c
X-WR-TIMEZONE:America/Chicago
BEGIN:VTIMEZONE
TZID:America/Chicago
BEGIN:STANDARD
TZNAME:CST
DTSTART:20221106T020000
TZOFFSETFROM:-0500
TZOFFSETTO:-0600
RDATE:20231105T020000
END:STANDARD
BEGIN:DAYLIGHT
TZNAME:CDT
DTSTART:20230312T020000
TZOFFSETFROM:-0600
TZOFFSETTO:-0500
RDATE:20240310T020000
END:DAYLIGHT
END:VTIMEZONE
BEGIN:VEVENT
UID:39fa56d1-43dd-4734-8ef7-04359a14a786
DTSTAMP:20260419T142526Z
DESCRIPTION:Welcome spring and join How’s it Growin’ radio host Bob Henrick
 son and some wild friends on a guided nature hike in Wilderness Park. Come
  and learn about the wild edible plants in your own neck of the woods! We 
 will learn how to identify and harvest some wild weeds for healthy\, nutri
 tious spring greens. Come join us for a fun\, inspiring and deliciously nu
 tritious foraging foray into the woods. Do it for the exercise and a chanc
 e to get away from the hustle and bustle of the city in this beautiful are
 a of Wilderness Park\nMeet at the Wilderness Park—Old Cheney Road parking 
 lot. (Enter just west of the railroad tracks and Jamaica North Trail)
DTSTART;TZID=America/Chicago:20230415T100000
DTEND;TZID=America/Chicago:20230415T110000
LOCATION:
SUMMARY:CE: Edible Nature Hike at Wilderness Park
END:VEVENT
END:VCALENDAR
