BEGIN:VCALENDAR
VERSION:2.0
PRODID:-//www.nemasternaturalist.org//NONSGML kigkonsult.se iCalcreator 2.3
 0.10//
CALSCALE:GREGORIAN
METHOD:PUBLISH
UID:6c839ab8-aed8-4825-8ea4-efe6b122ca96
X-WR-CALDESC:NSA Horticulture Program Coordinator Bob Henrickson will talk 
 about the Great Plants 2025 selections: Perennial of the Year\, Tree of th
 e Year\, Shrub of the Year and Grass of the Year.
X-WR-RELCALID:691928a47410e27f01e92d333b3b7995
X-WR-TIMEZONE:America/Chicago
BEGIN:VTIMEZONE
TZID:America/Chicago
BEGIN:STANDARD
TZNAME:CST
DTSTART:20241103T020000
TZOFFSETFROM:-0500
TZOFFSETTO:-0600
RDATE:20251102T020000
END:STANDARD
BEGIN:DAYLIGHT
TZNAME:CDT
DTSTART:20240310T020000
TZOFFSETFROM:-0600
TZOFFSETTO:-0500
RDATE:20250309T020000
RDATE:20260308T020000
END:DAYLIGHT
END:VTIMEZONE
BEGIN:VEVENT
UID:38d384af-a4ff-4023-96ff-087ca9b620ca
DTSTAMP:20260423T193216Z
DESCRIPTION:NSA Horticulture Program Coordinator Bob Henrickson will talk a
 bout the Great Plants 2025 selections: Perennial of the Year\, Tree of the
  Year\, Shrub of the Year and Grass of the Year.
DTSTART;TZID=America/Chicago:20250116T120000
DTEND;TZID=America/Chicago:20250116T130000
LOCATION:https://app.dvforms.net/api/dv/okv5wr
SUMMARY:CE: Plant Talk: The Great Plants of 2025
END:VEVENT
END:VCALENDAR
