BEGIN:VCALENDAR
VERSION:2.0
PRODID:-//www.nemasternaturalist.org//NONSGML kigkonsult.se iCalcreator 2.3
 0.10//
CALSCALE:GREGORIAN
METHOD:PUBLISH
UID:0fa1efc0-5bb0-4211-93d8-2c2ad6c1b1db
X-WR-CALDESC:Lewis & Clark Visitor Center curator Doug Friedli and voluntee
 r Dan Kostka will talk about the Center's new native tree trail\, plus off
 er information on dealing with invasive species and using controlled burni
 ng.
X-WR-RELCALID:cf23e4af1448b9888cc95b48cbe3f1f7
X-WR-TIMEZONE:America/Chicago
BEGIN:VTIMEZONE
TZID:America/Chicago
BEGIN:STANDARD
TZNAME:CST
DTSTART:20241103T020000
TZOFFSETFROM:-0500
TZOFFSETTO:-0600
RDATE:20251102T020000
END:STANDARD
BEGIN:DAYLIGHT
TZNAME:CDT
DTSTART:20240310T020000
TZOFFSETFROM:-0600
TZOFFSETTO:-0500
RDATE:20250309T020000
RDATE:20260308T020000
END:DAYLIGHT
END:VTIMEZONE
BEGIN:VEVENT
UID:52c9d701-1f3d-4370-9d2e-f2d8d4a61486
DTSTAMP:20260423T193458Z
DESCRIPTION:Lewis & Clark Visitor Center curator Doug Friedli and volunteer
  Dan Kostka will talk about the Center's new native tree trail\, plus offe
 r information on dealing with invasive species and using controlled burnin
 g.
DTSTART;TZID=America/Chicago:20250123T120000
DTEND;TZID=America/Chicago:20250123T130000
LOCATION:https://app.dvforms.net/api/dv/34v734
SUMMARY:CE: Plant Talk: Native Trees\, Invasive Species & Controlled Burns
END:VEVENT
END:VCALENDAR
