BEGIN:VCALENDAR
VERSION:2.0
PRODID:-//www.nemasternaturalist.org//NONSGML kigkonsult.se iCalcreator 2.3
 0.10//
CALSCALE:GREGORIAN
METHOD:PUBLISH
UID:8f22507e-d28e-45cf-98f8-aee78141e308
X-WR-CALDESC:State Forester John Erixson will talk about recent fires\, the
  effects of climate change on Nebraska's forests\, conservation and refore
 station efforts and other topics.
X-WR-RELCALID:792fea3db31597f33691d36a396f5d06
X-WR-TIMEZONE:America/Chicago
BEGIN:VTIMEZONE
TZID:America/Chicago
BEGIN:STANDARD
TZNAME:CST
DTSTART:20241103T020000
TZOFFSETFROM:-0500
TZOFFSETTO:-0600
RDATE:20251102T020000
END:STANDARD
BEGIN:DAYLIGHT
TZNAME:CDT
DTSTART:20240310T020000
TZOFFSETFROM:-0600
TZOFFSETTO:-0500
RDATE:20250309T020000
RDATE:20260308T020000
END:DAYLIGHT
END:VTIMEZONE
BEGIN:VEVENT
UID:b08667e9-de65-4e28-92df-9e0038e14896
DTSTAMP:20260423T193216Z
DESCRIPTION:State Forester John Erixson will talk about recent fires\, the 
 effects of climate change on Nebraska's forests\, conservation and refores
 tation efforts and other topics.
DTSTART;TZID=America/Chicago:20250130T120000
DTEND;TZID=America/Chicago:20250130T130000
LOCATION:https://app.dvforms.net/api/dv/6yl74w
SUMMARY:CE: Plant Talk: The State of the Forest with Nebraska State Foreste
 r John Erixson
END:VEVENT
END:VCALENDAR
