BEGIN:VCALENDAR
VERSION:2.0
PRODID:-//www.nemasternaturalist.org//NONSGML kigkonsult.se iCalcreator 2.3
 0.10//
CALSCALE:GREGORIAN
METHOD:PUBLISH
UID:6a2964ce-6236-4253-99ba-fe22c64e0e7b
X-WR-CALDESC:NSA Horticulture Program Coordinator Bob Henrickson will talk 
 about the Great Plants 2025 selections: Perennial of the Year\, Tree of th
 e Year\, Shrub of the Year and Grass of the Year.
X-WR-RELCALID:17e832688b18936e5cd68b88994ece3b
X-WR-TIMEZONE:America/Chicago
BEGIN:VTIMEZONE
TZID:America/Chicago
BEGIN:STANDARD
TZNAME:CST
DTSTART:20241103T020000
TZOFFSETFROM:-0500
TZOFFSETTO:-0600
RDATE:20251102T020000
END:STANDARD
BEGIN:DAYLIGHT
TZNAME:CDT
DTSTART:20240310T020000
TZOFFSETFROM:-0600
TZOFFSETTO:-0500
RDATE:20250309T020000
RDATE:20260308T020000
END:DAYLIGHT
END:VTIMEZONE
BEGIN:VEVENT
UID:45ca5044-4e29-46bf-8466-499528148fe7
DTSTAMP:20260423T180542Z
DESCRIPTION:NSA Horticulture Program Coordinator Bob Henrickson will talk a
 bout the Great Plants 2025 selections: Perennial of the Year\, Tree of the
  Year\, Shrub of the Year and Grass of the Year.
DTSTART;TZID=America/Chicago:20250206T120000
DTEND;TZID=America/Chicago:20250206T130000
LOCATION:https://app.dvforms.net/api/dv/0v40e2
SUMMARY:CE: Plant Talk: How Can NSA Help You Plan and Plant a Landscape Pro
 ject?
END:VEVENT
END:VCALENDAR
