BEGIN:VCALENDAR
VERSION:2.0
PRODID:-//www.nemasternaturalist.org//NONSGML kigkonsult.se iCalcreator 2.3
 0.10//
CALSCALE:GREGORIAN
METHOD:PUBLISH
UID:055a5dd1-910f-4016-b8b9-b80773aabef5
X-WR-CALDESC:Join us for a hands-on Nature Journaling workshop where we wil
 l slow down\, observe\, and document the natural world around us. This wor
 kshop is designed for all experience levels - seasoned artists\, writers\,
  or those just curious about nature.\n\nThere are accessible hardpacked gr
 anite trails less than half a mile and accessible parking & bathrooms onsi
 te. Accessible nature journaling supplies will be available.\nFree admissi
 on\, registration required.
X-WR-RELCALID:c48f2832c9a7c162a16ed89a62b40c72
X-WR-TIMEZONE:America/Chicago
BEGIN:VTIMEZONE
TZID:America/Chicago
BEGIN:STANDARD
TZNAME:CST
DTSTART:20241103T020000
TZOFFSETFROM:-0500
TZOFFSETTO:-0600
RDATE:20251102T020000
RDATE:20261101T020000
END:STANDARD
BEGIN:DAYLIGHT
TZNAME:CDT
DTSTART:20250309T020000
TZOFFSETFROM:-0600
TZOFFSETTO:-0500
RDATE:20260308T020000
END:DAYLIGHT
END:VTIMEZONE
BEGIN:VEVENT
UID:95ef7ac4-9706-436e-8529-a40ce1fb8eba
DTSTAMP:20260423T134853Z
DESCRIPTION:Join us for a hands-on Nature Journaling workshop where we will
  slow down\, observe\, and document the natural world around us. This work
 shop is designed for all experience levels - seasoned artists\, writers\, 
 or those just curious about nature.\n\nThere are accessible hardpacked gra
 nite trails less than half a mile and accessible parking & bathrooms onsit
 e. Accessible nature journaling supplies will be available.\nFree admissio
 n\, registration required.
DTSTART;TZID=America/Chicago:20250506T190000
DTEND;TZID=America/Chicago:20250506T210000
LOCATION:11700 SW 100th St\, Denton\, NE 68339 US
SUMMARY:Nature for All: Journaling in the Outdoors\, Spring Creek Prairie A
 udubon
END:VEVENT
END:VCALENDAR
