BEGIN:VCALENDAR
VERSION:2.0
PRODID:-//www.nemasternaturalist.org//NONSGML kigkonsult.se iCalcreator 2.3
 0.10//
CALSCALE:GREGORIAN
METHOD:PUBLISH
UID:ea236a80-e6da-4a2c-b9e5-552cd08c77a3
X-WR-CALDESC:Join Rowe Sanctuary staff for a free\, short hike to examine w
 ildflowers growing in the lowland tallgrass prairies and mixed-grass prair
 ies and learn more about our conservation goals and management. Registrati
 on is preferred\, but not required. For questions about the Wildflower Wal
 k and to register for the free event\, please visit rowe.audubon.org/event
 s. \n
X-WR-RELCALID:d0d2116d8a1891856cc51913ff4d3219
X-WR-TIMEZONE:America/Chicago
BEGIN:VTIMEZONE
TZID:America/Chicago
BEGIN:STANDARD
TZNAME:CST
DTSTART:20241103T020000
TZOFFSETFROM:-0500
TZOFFSETTO:-0600
RDATE:20251102T020000
RDATE:20261101T020000
END:STANDARD
BEGIN:DAYLIGHT
TZNAME:CDT
DTSTART:20250309T020000
TZOFFSETFROM:-0600
TZOFFSETTO:-0500
RDATE:20260308T020000
END:DAYLIGHT
END:VTIMEZONE
BEGIN:VEVENT
UID:2743281f-957b-42e8-a696-bf82480e88b6
DTSTAMP:20260423T120036Z
DESCRIPTION:Join Rowe Sanctuary staff for a free\, short hike to examine wi
 ldflowers growing in the lowland tallgrass prairies and mixed-grass prairi
 es and learn more about our conservation goals and management. Registratio
 n is preferred\, but not required. For questions about the Wildflower Walk
  and to register for the free event\, please visit rowe.audubon.org/events
 . \n
DTSTART;TZID=America/Chicago:20250607T190000
DTEND;TZID=America/Chicago:20250607T210000
LOCATION:44450 Elm Island Rd\, Gibbon\, NE 68840 US
SUMMARY:Rowe Sanctuary: Wild Flower Walk
END:VEVENT
END:VCALENDAR
