BEGIN:VCALENDAR
VERSION:2.0
PRODID:-//www.nemasternaturalist.org//NONSGML kigkonsult.se iCalcreator 2.3
 0.10//
CALSCALE:GREGORIAN
METHOD:PUBLISH
UID:dbbec1a4-f5cb-4021-be39-dc5d7ffbbc0a
X-WR-CALDESC:Prairie Herbalist Conference\nJuly 12th & 13th\, 2025\nRed Roa
 d Herbs Retreat & Learning Center\nStanton\, Nebraska\n\nAmazing line-up o
 f herbal wisdom-keepers\, \n~Special guest Jerome Kills Small Saturday eve
 ning - drumming\, singing and story-telling.\n~Located on 5 acres of peace
  and tranquility - immerse yourself in the healing power of Nature\n~Overn
 ight camping available - tent-camping with amenities\n~Fantastic food serv
 ed for lunch and snacks - vegan options\n\nCome join us in connecting peop
 le with plants and connecting people with like-minded people \n\n\n\n
X-WR-RELCALID:d05183aa62181824b6e74427d31af29a
X-WR-TIMEZONE:America/Chicago
BEGIN:VTIMEZONE
TZID:America/Chicago
BEGIN:STANDARD
TZNAME:CST
DTSTART:20241103T020000
TZOFFSETFROM:-0500
TZOFFSETTO:-0600
RDATE:20251102T020000
RDATE:20261101T020000
END:STANDARD
BEGIN:DAYLIGHT
TZNAME:CDT
DTSTART:20250309T020000
TZOFFSETFROM:-0600
TZOFFSETTO:-0500
RDATE:20260308T020000
END:DAYLIGHT
END:VTIMEZONE
BEGIN:VEVENT
UID:a8132c5b-25bc-41f0-a7fe-c6cd9212e419
DTSTAMP:20260423T101851Z
DESCRIPTION:Prairie Herbalist Conference\nJuly 12th & 13th\, 2025\nRed Road
  Herbs Retreat & Learning Center\nStanton\, Nebraska\n\nAmazing line-up of
  herbal wisdom-keepers\, \n~Special guest Jerome Kills Small Saturday even
 ing - drumming\, singing and story-telling.\n~Located on 5 acres of peace 
 and tranquility - immerse yourself in the healing power of Nature\n~Overni
 ght camping available - tent-camping with amenities\n~Fantastic food serve
 d for lunch and snacks - vegan options\n\nCome join us in connecting peopl
 e with plants and connecting people with like-minded people \n\n\n\n
DTSTART;TZID=America/Chicago:20250712T050000
DTEND;TZID=America/Chicago:20250713T050001
LOCATION:57190 835th Road\, Stanton \, NE 68779 US
SUMMARY:Prairie Herbalist Conference
END:VEVENT
END:VCALENDAR
