BEGIN:VCALENDAR
VERSION:2.0
PRODID:-//www.nemasternaturalist.org//NONSGML kigkonsult.se iCalcreator 2.3
 0.10//
CALSCALE:GREGORIAN
METHOD:PUBLISH
UID:68320a29-6e36-42f8-beea-47762d075cc2
X-WR-CALDESC:All Ne Master Naturalists\, certified or in-training\, are wel
 come to attend.  Registration is required.  Click on link below for furthe
 r details and to register
X-WR-RELCALID:04f7b471f6bbdce57aba04c29cec9008
X-WR-TIMEZONE:America/Chicago
BEGIN:VTIMEZONE
TZID:America/Chicago
BEGIN:STANDARD
TZNAME:CST
DTSTART:20241103T020000
TZOFFSETFROM:-0500
TZOFFSETTO:-0600
RDATE:20251102T020000
RDATE:20261101T020000
END:STANDARD
BEGIN:DAYLIGHT
TZNAME:CDT
DTSTART:20250309T020000
TZOFFSETFROM:-0600
TZOFFSETTO:-0500
RDATE:20260308T020000
END:DAYLIGHT
END:VTIMEZONE
BEGIN:VEVENT
UID:595be782-498e-45f4-98e4-4adf89b512eb
DTSTAMP:20260423T085201Z
DESCRIPTION:All Ne Master Naturalists\, certified or in-training\, are welc
 ome to attend.  Registration is required.  Click on link below for further
  details and to register
DTSTART;TZID=America/Chicago:20250814T170000
DTEND;TZID=America/Chicago:20250817T120000
LOCATION:Niobrara Valley Preserve\,  42269 Morel Road\, Johnstown\, NE 6921
 4
SUMMARY:Ne Master Naturalist Annual Reunion
END:VEVENT
END:VCALENDAR
