BEGIN:VCALENDAR
VERSION:2.0
PRODID:-//www.nemasternaturalist.org//NONSGML kigkonsult.se iCalcreator 2.3
 0.10//
CALSCALE:GREGORIAN
METHOD:PUBLISH
UID:f48b1a7d-696a-48e4-8246-35d6a260ad07
X-WR-CALDESC:
X-WR-RELCALID:ae3cdb4fffdef8d72e6bf63298c1f4ac
X-WR-TIMEZONE:America/Chicago
BEGIN:VTIMEZONE
TZID:America/Chicago
BEGIN:STANDARD
TZNAME:CST
DTSTART:20241103T020000
TZOFFSETFROM:-0500
TZOFFSETTO:-0600
RDATE:20251102T020000
RDATE:20261101T020000
END:STANDARD
BEGIN:DAYLIGHT
TZNAME:CDT
DTSTART:20250309T020000
TZOFFSETFROM:-0600
TZOFFSETTO:-0500
RDATE:20260308T020000
RDATE:20270314T020000
END:DAYLIGHT
END:VTIMEZONE
BEGIN:VEVENT
UID:a9db6841-54c3-4e1b-89ed-d610d228043e
DTSTAMP:20260423T055626Z
DESCRIPTION:
DTSTART;TZID=America/Chicago:20251007T050000
DTEND;TZID=America/Chicago:20251009T050001
LOCATION:East Campus\, University of Nebraska–Lincoln\, Lincoln\, Nebraska
SUMMARY:2025 Nebraska Natural Legacy and Society for Range Management Joint
  Conference: Forging a Path Forward: Strengthening Nebraska’s Natural Lega
 cy through Range Management
END:VEVENT
END:VCALENDAR
