BEGIN:VCALENDAR
VERSION:2.0
PRODID:-//www.nemasternaturalist.org//NONSGML kigkonsult.se iCalcreator 2.3
 0.10//
CALSCALE:GREGORIAN
METHOD:PUBLISH
UID:3d996518-b135-47f0-bdbe-28dc012efe67
X-WR-CALDESC:Join UNL Bee Lab Extension Team for an arthropod adventure\n\n
 Campers will explore the world of insects through hands-on activities\, ga
 mes and investigations.  They'll learn how bugs live\, why they matter and
  how scientists study them\, while having fund and building real science s
 kills along the way.\n\nRegistration is $300\nCamp is for grades 3rd-5th g
 rades. \n\nEmail eknezevic2@unl.edu to register or scan QR code in image.
X-WR-RELCALID:9b9215486d501ba7cb8cbfc2782da46d
X-WR-TIMEZONE:America/Chicago
BEGIN:VTIMEZONE
TZID:America/Chicago
BEGIN:STANDARD
TZNAME:CST
DTSTART:20251102T020000
TZOFFSETFROM:-0500
TZOFFSETTO:-0600
RDATE:20261101T020000
END:STANDARD
BEGIN:DAYLIGHT
TZNAME:CDT
DTSTART:20250309T020000
TZOFFSETFROM:-0600
TZOFFSETTO:-0500
RDATE:20260308T020000
RDATE:20270314T020000
END:DAYLIGHT
END:VTIMEZONE
BEGIN:VEVENT
UID:77a24160-9304-45fb-a439-416c6377717b
DTSTAMP:20260422T224228Z
DESCRIPTION:Join UNL Bee Lab Extension Team for an arthropod adventure\n\nC
 ampers will explore the world of insects through hands-on activities\, gam
 es and investigations.  They'll learn how bugs live\, why they matter and 
 how scientists study them\, while having fund and building real science sk
 ills along the way.\n\nRegistration is $300\nCamp is for grades 3rd-5th gr
 ades. \n\nEmail eknezevic2@unl.edu to register or scan QR code in image.
DTSTART;TZID=America/Chicago:20260309T083000
DTEND;TZID=America/Chicago:20260313T163000
LOCATION:Entomology Hall\, 1700 E Campus Mall \, Lincoln\, NE 68503 US
SUMMARY:Big Bug Bonanza Spring-Break Camp
END:VEVENT
END:VCALENDAR
