BEGIN:VCALENDAR
VERSION:2.0
PRODID:-//www.nemasternaturalist.org//NONSGML kigkonsult.se iCalcreator 2.3
 0.10//
CALSCALE:GREGORIAN
METHOD:PUBLISH
UID:22dba1dd-61fe-426d-8498-0b33ecbf77e5
X-WR-CALDESC:Hike and Exploration Guides\n\nWilderness Park\, Lincoln \nTim
 es: 6:00 pm CT\nDates: April 2nd\, 2026\nVolunteers Needed: 3\n\nDescripti
 on of Volunteer Opportunity:\nBig Gumdrops Outdoor\, Friends of Wilderness
  Park\, and Birdability are hosting an event at the new accessible entranc
 e to Wilderness Park on April 2\, at 6:00 pm.  We are looking for voluntee
 rs to take a group of ten through the park to look at birds and any other 
 critters.\n\nTo Volunteer Contact: Nebraska Birdability Captain\, Cassandr
 a Dean\, cassandradean23@gmail.com\n
X-WR-RELCALID:cdd39169251e1fad27b7cf00a3e6526b
X-WR-TIMEZONE:America/Chicago
BEGIN:VTIMEZONE
TZID:America/Chicago
BEGIN:STANDARD
TZNAME:CST
DTSTART:20251102T020000
TZOFFSETFROM:-0500
TZOFFSETTO:-0600
RDATE:20261101T020000
END:STANDARD
BEGIN:DAYLIGHT
TZNAME:CDT
DTSTART:20260308T020000
TZOFFSETFROM:-0600
TZOFFSETTO:-0500
RDATE:20270314T020000
END:DAYLIGHT
END:VTIMEZONE
BEGIN:VEVENT
UID:fd2db1fa-50df-4b92-96cb-1e34f51be039
DTSTAMP:20260422T210631Z
DESCRIPTION:Hike and Exploration Guides\n\nWilderness Park\, Lincoln \nTime
 s: 6:00 pm CT\nDates: April 2nd\, 2026\nVolunteers Needed: 3\n\nDescriptio
 n of Volunteer Opportunity:\nBig Gumdrops Outdoor\, Friends of Wilderness 
 Park\, and Birdability are hosting an event at the new accessible entrance
  to Wilderness Park on April 2\, at 6:00 pm.  We are looking for volunteer
 s to take a group of ten through the park to look at birds and any other c
 ritters.\n\nTo Volunteer Contact: Nebraska Birdability Captain\, Cassandra
  Dean\, cassandradean23@gmail.com\n
DTSTART;TZID=America/Chicago:20260402T050000
DTEND;TZID=America/Chicago:20260402T050001
LOCATION:Wilderness Park Lincoln
SUMMARY:Hike and Exploration Guides
END:VEVENT
END:VCALENDAR
