BEGIN:VCALENDAR
VERSION:2.0
PRODID:-//www.nemasternaturalist.org//NONSGML kigkonsult.se iCalcreator 2.3
 0.10//
CALSCALE:GREGORIAN
METHOD:PUBLISH
UID:a8b5fe44-9d7a-4559-af23-002cee890cce
X-WR-CALDESC:Join Kearney resident & Master Naturalist! Jonathan Nikkala as
  he leads a morning tour of his property’s gorgeous native landscaping. Jo
 nathan discovered gardening on a whim after he and his wife\, Miriam\, pur
 chased their first home. He was immediately intrigued by the small insects
  that liked to visit the new plants he installed. Since then\, he has writ
 ten a children’s book about insects\, speaks to children and adults about 
 them\, and his landscape now revolves around creating an insect-friendly/b
 ird-friendly habitat. His was one of the first home landscapes to be certi
 fied as part of University of Nebraska Extension's 'Nebraska Pollinator Ha
 bitat' program.  Come learn more about the beauty and benefits of planting
  natives at this “Plants for Birds” event!  Please register through the li
 nk included with this post.
X-WR-RELCALID:aff702c413abdd1ff0d6e227230271ea
X-WR-TIMEZONE:America/Chicago
BEGIN:VTIMEZONE
TZID:America/Chicago
BEGIN:STANDARD
TZNAME:CST
DTSTART:20181104T020000
TZOFFSETFROM:-0500
TZOFFSETTO:-0600
RDATE:20191103T020000
RDATE:20201101T020000
END:STANDARD
BEGIN:DAYLIGHT
TZNAME:CDT
DTSTART:20190310T020000
TZOFFSETFROM:-0600
TZOFFSETTO:-0500
RDATE:20200308T020000
END:DAYLIGHT
END:VTIMEZONE
BEGIN:VEVENT
UID:970c4c49-9cdb-4b4c-85e8-8a0f07e4afb2
DTSTAMP:20260420T105145Z
DESCRIPTION:Join Kearney resident & Master Naturalist! Jonathan Nikkala as 
 he leads a morning tour of his property’s gorgeous native landscaping. Jon
 athan discovered gardening on a whim after he and his wife\, Miriam\, purc
 hased their first home. He was immediately intrigued by the small insects 
 that liked to visit the new plants he installed. Since then\, he has writt
 en a children’s book about insects\, speaks to children and adults about t
 hem\, and his landscape now revolves around creating an insect-friendly/bi
 rd-friendly habitat. His was one of the first home landscapes to be certif
 ied as part of University of Nebraska Extension's 'Nebraska Pollinator Hab
 itat' program.  Come learn more about the beauty and benefits of planting 
 natives at this “Plants for Birds” event!  Please register through the lin
 k included with this post.
DTSTART;TZID=America/Chicago:20190817T090000
DTEND;TZID=America/Chicago:20190817T103000
LOCATION:4 Regency Pl\, Kearney\, NE 68847-2567
SUMMARY:CE: Landscaping with Native Nebraska Plants
END:VEVENT
END:VCALENDAR
